BEGIN:VCALENDAR
VERSION:2.0
PRODID:-//wp-events-plugin.com//7.2.2.1//EN
TZID:Europe/Paris
X-WR-TIMEZONE:Europe/Paris
BEGIN:VEVENT
UID:412@paysgermaniques.fr
DTSTART;TZID=Europe/Paris:20251211T120000
DTEND;TZID=Europe/Paris:20251213T120000
DTSTAMP:20251128T114546Z
URL:https://paysgermaniques.fr/events/architecture-temporalite-historicite
 /
SUMMARY:Architecture\, temporalité\, historicité
DESCRIPTION:Colloque international / Internationale Tagung |11-13 déc./Dez
 . 2025 - ENS-PSL 45 rue d’Ulm 75005 Paris
ATTACH;FMTTYPE=image/jpeg:https://paysgermaniques.fr/wp-content/uploads/20
 25/11/architecture-colloque.jpg
CATEGORIES:Colloque
LOCATION:ENS-PSL\, 45 rue d'Ulm\, Paris\, Paris\, 75005\, Ile-de-France\, F
 rance
X-APPLE-STRUCTURED-LOCATION;VALUE=URI;X-ADDRESS=45 rue d'Ulm\, Paris\, Pari
 s\, 75005\, Ile-de-France\, France;X-APPLE-RADIUS=100;X-TITLE=ENS-PSL:geo:
 0,0
END:VEVENT
BEGIN:VTIMEZONE
TZID:Europe/Paris
X-LIC-LOCATION:Europe/Paris
BEGIN:STANDARD
DTSTART:20251026T020000
TZOFFSETFROM:+0200
TZOFFSETTO:+0100
TZNAME:CET
END:STANDARD
END:VTIMEZONE
END:VCALENDAR